BEGIN:VCALENDAR
VERSION:2.0
PRODID:-//https://calenda-formation.labocleo.org
X-WR-CALNAME:Calenda
X-WR-TIMEZONE:Europe/Paris
CALSCALE:GREGORIAN
X-WR-CALDESC:Le calendrier des lettres et sciences humaines et sociales
METHOD:PUBLISH
BEGIN:VEVENT
DTSTART;VALUE=DATE:20160111
DTEND;VALUE=DATE:20160112
UID:351232-20160111@calenda.revues.org
SUMMARY:Le bracelet électronique
URL:https://calenda-formation.labocleo.org/351232
DESCRIPTION:Ce colloque international et interdisciplinaire propose de dresser un état des lieux/état des savoirs sur le placement sous surveillance électronique\, fixe ou mobile\, communément connu sous le nom de bracelet électronique. Dans un colloque tenu à Fri… Más informaciones https://calenda-formation.labocleo.org/351232
LOCATION:París
END:VEVENT
BEGIN:VEVENT
DTSTART;VALUE=DATE:20160112
DTEND;VALUE=DATE:20160113
UID:351232-20160112@calenda.revues.org
SUMMARY:Le bracelet électronique
URL:https://calenda-formation.labocleo.org/351232
DESCRIPTION:Ce colloque international et interdisciplinaire propose de dresser un état des lieux/état des savoirs sur le placement sous surveillance électronique\, fixe ou mobile\, communément connu sous le nom de bracelet électronique. Dans un colloque tenu à Fri… Más informaciones https://calenda-formation.labocleo.org/351232
LOCATION:París
END:VEVENT
BEGIN:VEVENT
DTSTART;VALUE=DATE:20160113
DTEND;VALUE=DATE:20160114
UID:351232-20160113@calenda.revues.org
SUMMARY:Le bracelet électronique
URL:https://calenda-formation.labocleo.org/351232
DESCRIPTION:Ce colloque international et interdisciplinaire propose de dresser un état des lieux/état des savoirs sur le placement sous surveillance électronique\, fixe ou mobile\, communément connu sous le nom de bracelet électronique. Dans un colloque tenu à Fri… Más informaciones https://calenda-formation.labocleo.org/351232
LOCATION:París
END:VEVENT
END:VCALENDAR
