BEGIN:VCALENDAR
VERSION:2.0
PRODID:-//https://calenda-formation.labocleo.org
X-WR-CALNAME:Calenda
X-WR-TIMEZONE:Europe/Paris
CALSCALE:GREGORIAN
X-WR-CALDESC:The calendar for arts, humanities and social sciences
METHOD:PUBLISH
BEGIN:VEVENT
DTSTART;VALUE=DATE:20160131
DTEND;VALUE=DATE:20160201
UID:351627-20160131@calenda.revues.org
SUMMARY:Working on /  with archives and writings in anthropology and literary studies: perspectives
URL:https://calenda-formation.labocleo.org/351627
DESCRIPTION:Comme l’ont montré les historiens et les philologues travaillant sur les manuscrits arabes et swahili\, le monde swahili est caractérisé par l’omniprésence de l’écrit en raison d’une islamisation ancienne de cet espace et de l’existence de pratiques d… @plus_info https://calenda-formation.labocleo.org/351627
LOCATION:
END:VEVENT
END:VCALENDAR
