BEGIN:VCALENDAR
VERSION:2.0
PRODID:-//https://calenda-formation.labocleo.org
X-WR-CALNAME:Calenda
X-WR-TIMEZONE:Europe/Paris
CALSCALE:GREGORIAN
X-WR-CALDESC:The calendar for arts, humanities and social sciences
METHOD:PUBLISH
BEGIN:VEVENT
DTSTART;VALUE=DATE:20160401
DTEND;VALUE=DATE:20160402
UID:351649-20160401@calenda.revues.org
SUMMARY:What does cinema do to literary genres?
URL:https://calenda-formation.labocleo.org/351649
DESCRIPTION:Cette journée d'étude entend à la fois analyser les changements que l’influence du cinéma a produits dans le système des genres en littérature (mise en place de genres nouveaux\, renforcement ou discrédit de genres existants\, mise en valeur des distin… @plus_info https://calenda-formation.labocleo.org/351649
LOCATION:Leuven
END:VEVENT
END:VCALENDAR
