BEGIN:VCALENDAR
VERSION:2.0
PRODID:-//https://calenda-formation.labocleo.org
X-WR-CALNAME:Calenda
X-WR-TIMEZONE:Europe/Paris
CALSCALE:GREGORIAN
X-WR-CALDESC:Le calendrier des lettres et sciences humaines et sociales
METHOD:PUBLISH
BEGIN:VEVENT
DTSTART;VALUE=DATE:20160215
DTEND;VALUE=DATE:20160216
UID:351895-20160215@calenda.revues.org
SUMMARY:Prix Henry-E. Sigerist pour la promotion de la relève en histoire de la médecine et des sciences naturelles (2016)
URL:https://calenda-formation.labocleo.org/351895
DESCRIPTION:La Société suisse d'histoire de la médecine et des sciences naturelles (SSHMSN) met au concours le Prix Henry-E. Sigerist pour la promotion de la relève en histoire de la médecine et des sciences naturelles 2016. … Weitere Informationen https://calenda-formation.labocleo.org/351895
LOCATION:
END:VEVENT
END:VCALENDAR
