BEGIN:VCALENDAR
VERSION:2.0
PRODID:-//https://calenda-formation.labocleo.org
X-WR-CALNAME:Calenda
X-WR-TIMEZONE:Europe/Paris
CALSCALE:GREGORIAN
X-WR-CALDESC:The calendar for arts, humanities and social sciences
METHOD:PUBLISH
BEGIN:VEVENT
DTSTART;VALUE=DATE:20160210
DTEND;VALUE=DATE:20160211
UID:351941-20160210@calenda.revues.org
SUMMARY:Allegory and topography in the modern age (16th-18th century)
URL:https://calenda-formation.labocleo.org/351941
DESCRIPTION:Les arts de la période moderne\, de la Renaissance à la fin du XVIIIe siècle\, accordent une importance majeure à l’allégorie comme mode d’évocation visuelle d’un universel invisible – que ce soit le divin chrétien ou les valeurs humanistes. Ainsi défi… @plus_info https://calenda-formation.labocleo.org/351941
LOCATION:Paris
END:VEVENT
END:VCALENDAR
