BEGIN:VCALENDAR
VERSION:2.0
PRODID:-//https://calenda-formation.labocleo.org
X-WR-CALNAME:Calenda
X-WR-TIMEZONE:Europe/Paris
CALSCALE:GREGORIAN
X-WR-CALDESC:The calendar for arts, humanities and social sciences
METHOD:PUBLISH
BEGIN:VEVENT
DTSTART;VALUE=DATE:20160208
DTEND;VALUE=DATE:20160209
UID:352028-20160208@calenda.revues.org
SUMMARY:Accompanying disabled people at home: moral\, social and political issues
URL:https://calenda-formation.labocleo.org/352028
DESCRIPTION:Les épineuses questions de dignité qui parcourent les situations de dépendance ont amené les pouvoirs publics à repenser les modalités d’accompagnement du handicap et à apporter une réponse individualisée aux besoins des personnes. La loi de 1975 d’o… @plus_info https://calenda-formation.labocleo.org/352028
LOCATION:Paris
END:VEVENT
END:VCALENDAR
