BEGIN:VCALENDAR
VERSION:2.0
PRODID:-//https://calenda-formation.labocleo.org
X-WR-CALNAME:Calenda
X-WR-TIMEZONE:Europe/Paris
CALSCALE:GREGORIAN
X-WR-CALDESC:The calendar for arts, humanities and social sciences
METHOD:PUBLISH
BEGIN:VEVENT
DTSTART;VALUE=DATE:20160731
DTEND;VALUE=DATE:20160801
UID:352214-20160731@calenda.revues.org
SUMMARY:The geopolitics of languages in the Arab world
URL:https://calenda-formation.labocleo.org/352214
DESCRIPTION:C’est un sujet très ancien\, qui a passionné les gestionnaires de l’empire ottoman et les puissances coloniales européennes\, mais que les pays arabes ont un peu négligé ensuite pour des raisons d’unité nationale\, voire religieuses ou de crainte d’un n… @plus_info https://calenda-formation.labocleo.org/352214
LOCATION:Casablanca
END:VEVENT
END:VCALENDAR
