BEGIN:VCALENDAR
VERSION:2.0
PRODID:-//https://calenda-formation.labocleo.org
X-WR-CALNAME:Calenda
X-WR-TIMEZONE:Europe/Paris
CALSCALE:GREGORIAN
X-WR-CALDESC:The calendar for arts, humanities and social sciences
METHOD:PUBLISH
BEGIN:VEVENT
DTSTART;VALUE=DATE:20160119
DTEND;VALUE=DATE:20160120
UID:352273-20160119@calenda.revues.org
SUMMARY:Political terrains - collective reflections on the practices of commited research
URL:https://calenda-formation.labocleo.org/352273
DESCRIPTION:Le séminaire « Terrains politiques » propose un espace d'échange aux chercheurs en sciences sociales qui mènent des enquêtes de terrains sur les mobilisations collectives\, les organisations\, les collectifs activistes et militants ou sur des sujets et… @plus_info https://calenda-formation.labocleo.org/352273
LOCATION:Saint-Denis
END:VEVENT
BEGIN:VEVENT
DTSTART;VALUE=DATE:20160216
DTEND;VALUE=DATE:20160217
UID:352273-20160216@calenda.revues.org
SUMMARY:Political terrains - collective reflections on the practices of commited research
URL:https://calenda-formation.labocleo.org/352273
DESCRIPTION:Le séminaire « Terrains politiques » propose un espace d'échange aux chercheurs en sciences sociales qui mènent des enquêtes de terrains sur les mobilisations collectives\, les organisations\, les collectifs activistes et militants ou sur des sujets et… @plus_info https://calenda-formation.labocleo.org/352273
LOCATION:Saint-Denis
END:VEVENT
BEGIN:VEVENT
DTSTART;VALUE=DATE:20160315
DTEND;VALUE=DATE:20160316
UID:352273-20160315@calenda.revues.org
SUMMARY:Political terrains - collective reflections on the practices of commited research
URL:https://calenda-formation.labocleo.org/352273
DESCRIPTION:Le séminaire « Terrains politiques » propose un espace d'échange aux chercheurs en sciences sociales qui mènent des enquêtes de terrains sur les mobilisations collectives\, les organisations\, les collectifs activistes et militants ou sur des sujets et… @plus_info https://calenda-formation.labocleo.org/352273
LOCATION:Saint-Denis
END:VEVENT
BEGIN:VEVENT
DTSTART;VALUE=DATE:20160412
DTEND;VALUE=DATE:20160413
UID:352273-20160412@calenda.revues.org
SUMMARY:Political terrains - collective reflections on the practices of commited research
URL:https://calenda-formation.labocleo.org/352273
DESCRIPTION:Le séminaire « Terrains politiques » propose un espace d'échange aux chercheurs en sciences sociales qui mènent des enquêtes de terrains sur les mobilisations collectives\, les organisations\, les collectifs activistes et militants ou sur des sujets et… @plus_info https://calenda-formation.labocleo.org/352273
LOCATION:Saint-Denis
END:VEVENT
BEGIN:VEVENT
DTSTART;VALUE=DATE:20160510
DTEND;VALUE=DATE:20160511
UID:352273-20160510@calenda.revues.org
SUMMARY:Political terrains - collective reflections on the practices of commited research
URL:https://calenda-formation.labocleo.org/352273
DESCRIPTION:Le séminaire « Terrains politiques » propose un espace d'échange aux chercheurs en sciences sociales qui mènent des enquêtes de terrains sur les mobilisations collectives\, les organisations\, les collectifs activistes et militants ou sur des sujets et… @plus_info https://calenda-formation.labocleo.org/352273
LOCATION:Saint-Denis
END:VEVENT
BEGIN:VEVENT
DTSTART;VALUE=DATE:20160607
DTEND;VALUE=DATE:20160608
UID:352273-20160607@calenda.revues.org
SUMMARY:Political terrains - collective reflections on the practices of commited research
URL:https://calenda-formation.labocleo.org/352273
DESCRIPTION:Le séminaire « Terrains politiques » propose un espace d'échange aux chercheurs en sciences sociales qui mènent des enquêtes de terrains sur les mobilisations collectives\, les organisations\, les collectifs activistes et militants ou sur des sujets et… @plus_info https://calenda-formation.labocleo.org/352273
LOCATION:Saint-Denis
END:VEVENT
END:VCALENDAR
