BEGIN:VCALENDAR
VERSION:2.0
PRODID:-//https://calenda-formation.labocleo.org
X-WR-CALNAME:Calenda
X-WR-TIMEZONE:Europe/Paris
CALSCALE:GREGORIAN
X-WR-CALDESC:The calendar for arts, humanities and social sciences
METHOD:PUBLISH
BEGIN:VEVENT
DTSTART;VALUE=DATE:20160301
DTEND;VALUE=DATE:20160302
UID:352304-20160301@calenda.revues.org
SUMMARY:Solidarity\, an issue for business?
URL:https://calenda-formation.labocleo.org/352304
DESCRIPTION:RTT solidaires\, congés solidaires\, dons de RTT\, etc. : les actions de solidarité concernant les entreprises se multiplient. Dans ce contexte\, cet appel a pour objectif d'éclairer de manière conjointe deux types d'enjeux. Il s'agit d'abord de s'interr… @plus_info https://calenda-formation.labocleo.org/352304
LOCATION:Clermont-Ferrand
END:VEVENT
END:VCALENDAR
