BEGIN:VCALENDAR
VERSION:2.0
PRODID:-//https://calenda-formation.labocleo.org
X-WR-CALNAME:Calenda
X-WR-TIMEZONE:Europe/Paris
CALSCALE:GREGORIAN
X-WR-CALDESC:The calendar for arts, humanities and social sciences
METHOD:PUBLISH
BEGIN:VEVENT
DTSTART;VALUE=DATE:20160130
DTEND;VALUE=DATE:20160131
UID:352714-20160130@calenda.revues.org
SUMMARY:Uses and representations of the internet in Morocco
URL:https://calenda-formation.labocleo.org/352714
DESCRIPTION:L’objectif principal de ce colloque est d’étudier les représentations que se font les Marocains d’internet\, ainsi que les formes et modalités particulières d’appropriation et d’usage de cet outil de communication et d’information. Des approches quali… @plus_info https://calenda-formation.labocleo.org/352714
LOCATION:Mohammedia
END:VEVENT
END:VCALENDAR
