BEGIN:VCALENDAR
VERSION:2.0
PRODID:-//https://calenda-formation.labocleo.org
X-WR-CALNAME:Calenda
X-WR-TIMEZONE:Europe/Paris
CALSCALE:GREGORIAN
X-WR-CALDESC:The calendar for arts, humanities and social sciences
METHOD:PUBLISH
BEGIN:VEVENT
DTSTART;VALUE=DATE:20160220
DTEND;VALUE=DATE:20160221
UID:353423-20160220@calenda.revues.org
SUMMARY:Children musicians and musical childhood
URL:https://calenda-formation.labocleo.org/353423
DESCRIPTION:The conference of the French Society for Ethnomusicology propose to focus on the children's musical world in different cultures\, the recovery and re-appropriation of themes from children's repertoires by adult musicians and on the representations of … @plus_info https://calenda-formation.labocleo.org/353423
LOCATION:Paris
END:VEVENT
END:VCALENDAR
