BEGIN:VCALENDAR
VERSION:2.0
PRODID:-//https://calenda-formation.labocleo.org
X-WR-CALNAME:Calenda
X-WR-TIMEZONE:Europe/Paris
CALSCALE:GREGORIAN
X-WR-CALDESC:The calendar for arts, humanities and social sciences
METHOD:PUBLISH
BEGIN:VEVENT
DTSTART;VALUE=DATE:20160215
DTEND;VALUE=DATE:20160216
UID:353624-20160215@calenda.revues.org
SUMMARY:Neo-Latin school of the COMOD labex
URL:https://calenda-formation.labocleo.org/353624
DESCRIPTION:Cette école propose une formation intensive en néo-latin à travers l’étude de textes relevant de différentes disciplines (littérature\, philosophie\, droit\, théologie\, médecine\, sciences – physiques\, mathématiques) qui s’adresse à ceux qui souhaitent s… @plus_info https://calenda-formation.labocleo.org/353624
LOCATION:Lyon
END:VEVENT
END:VCALENDAR
