BEGIN:VCALENDAR
VERSION:2.0
PRODID:-//https://calenda-formation.labocleo.org
X-WR-CALNAME:Calenda
X-WR-TIMEZONE:Europe/Paris
CALSCALE:GREGORIAN
X-WR-CALDESC:The calendar for arts, humanities and social sciences
METHOD:PUBLISH
BEGIN:VEVENT
DTSTART;VALUE=DATE:20160204
DTEND;VALUE=DATE:20160205
UID:353641-20160204@calenda.revues.org
SUMMARY:Social conquests\, resistance and adaptations of peasant classes in the Mediterranean basin
URL:https://calenda-formation.labocleo.org/353641
DESCRIPTION:Organisées par le Groupe de recherche petites paysanneries (GPP)\, les journées de témoignages\, d’interaction et de réflexion sur les conquêtes sociales\, résistances et adaptations des paysanneries du pourtour méditerranéen\, matérialisent un principe … @plus_info https://calenda-formation.labocleo.org/353641
LOCATION:Nanterre
END:VEVENT
BEGIN:VEVENT
DTSTART;VALUE=DATE:20160205
DTEND;VALUE=DATE:20160206
UID:353641-20160205@calenda.revues.org
SUMMARY:Social conquests\, resistance and adaptations of peasant classes in the Mediterranean basin
URL:https://calenda-formation.labocleo.org/353641
DESCRIPTION:Organisées par le Groupe de recherche petites paysanneries (GPP)\, les journées de témoignages\, d’interaction et de réflexion sur les conquêtes sociales\, résistances et adaptations des paysanneries du pourtour méditerranéen\, matérialisent un principe … @plus_info https://calenda-formation.labocleo.org/353641
LOCATION:Nanterre
END:VEVENT
END:VCALENDAR
