BEGIN:VCALENDAR
VERSION:2.0
PRODID:-//https://calenda-formation.labocleo.org
X-WR-CALNAME:Calenda
X-WR-TIMEZONE:Europe/Paris
CALSCALE:GREGORIAN
X-WR-CALDESC:The calendar for arts, humanities and social sciences
METHOD:PUBLISH
BEGIN:VEVENT
DTSTART;VALUE=DATE:20160311
DTEND;VALUE=DATE:20160312
UID:353728-20160311@calenda.revues.org
SUMMARY:40 years later... a new era for civil law?
URL:https://calenda-formation.labocleo.org/353728
DESCRIPTION:À l’heure où le Code de procédure civile fête ses quarante ans\, ce colloque a pour objet de s’interroger sur les réformes qui bouleversent la procédure et la font entrer dans une « nouvelle ère » : développement des modes amiables\, introduction d’un … @plus_info https://calenda-formation.labocleo.org/353728
LOCATION:Caen
END:VEVENT
END:VCALENDAR
