BEGIN:VCALENDAR
VERSION:2.0
PRODID:-//https://calenda-formation.labocleo.org
X-WR-CALNAME:Calenda
X-WR-TIMEZONE:Europe/Paris
CALSCALE:GREGORIAN
X-WR-CALDESC:Le calendrier des lettres et sciences humaines et sociales
METHOD:PUBLISH
BEGIN:VEVENT
DTSTART;VALUE=DATE:20160215
DTEND;VALUE=DATE:20160216
UID:353785-20160215@calenda.revues.org
SUMMARY:Rendre compte des conversions à l’islam
URL:https://calenda-formation.labocleo.org/353785
DESCRIPTION:Les conversions à l’islam se présentent\, à l’heure actuelle\, comme un objet social incontournable des sociétés dites occidentales dont il est nécessaire de rendre compte scientifiquement. Souvent en lien avec le contexte géopolitique international\, e… @plus_info https://calenda-formation.labocleo.org/353785
LOCATION:Paris
END:VEVENT
BEGIN:VEVENT
DTSTART;VALUE=DATE:20160216
DTEND;VALUE=DATE:20160217
UID:353785-20160216@calenda.revues.org
SUMMARY:Rendre compte des conversions à l’islam
URL:https://calenda-formation.labocleo.org/353785
DESCRIPTION:Les conversions à l’islam se présentent\, à l’heure actuelle\, comme un objet social incontournable des sociétés dites occidentales dont il est nécessaire de rendre compte scientifiquement. Souvent en lien avec le contexte géopolitique international\, e… @plus_info https://calenda-formation.labocleo.org/353785
LOCATION:Paris
END:VEVENT
END:VCALENDAR
