BEGIN:VCALENDAR
VERSION:2.0
PRODID:-//https://calenda-formation.labocleo.org
X-WR-CALNAME:Calenda
X-WR-TIMEZONE:Europe/Paris
CALSCALE:GREGORIAN
X-WR-CALDESC:The calendar for arts, humanities and social sciences
METHOD:PUBLISH
BEGIN:VEVENT
DTSTART;VALUE=DATE:20160316
DTEND;VALUE=DATE:20160317
UID:353893-20160316@calenda.revues.org
SUMMARY:Islam and Protestantism: convergences and divergences as points of encounter
URL:https://calenda-formation.labocleo.org/353893
DESCRIPTION:Une étude comparée entre protestantisme et islam ne pourrait-elle pas aider à faire progresser une compréhension interconfessionnelle sans gommer\, pour autant\, ce qui fait l’originalité de chacune des religions ? Cette question sera abordée par la jo… @plus_info https://calenda-formation.labocleo.org/353893
LOCATION:Arras
END:VEVENT
END:VCALENDAR
