BEGIN:VCALENDAR
VERSION:2.0
PRODID:-//https://calenda-formation.labocleo.org
X-WR-CALNAME:Calenda
X-WR-TIMEZONE:Europe/Paris
CALSCALE:GREGORIAN
X-WR-CALDESC:Le calendrier des lettres et sciences humaines et sociales
METHOD:PUBLISH
BEGIN:VEVENT
DTSTART;VALUE=DATE:20160128
DTEND;VALUE=DATE:20160129
UID:353978-20160128@calenda.revues.org
SUMMARY:Pascal Quignard\, « Les Petits Traités au fil de la relecture »
URL:https://calenda-formation.labocleo.org/353978
DESCRIPTION:Les 28 et 29 janvier 2016\, à Vérone\, se tiendra un colloque international consacré à Pascal Quignard\, « Les Petits Traités au fil de la relecture ». Pascal Quignard présentera à cette occasion une création Ballet de l'origine de la langue et de la li… Más informaciones https://calenda-formation.labocleo.org/353978
LOCATION:Verona
END:VEVENT
BEGIN:VEVENT
DTSTART;VALUE=DATE:20160129
DTEND;VALUE=DATE:20160130
UID:353978-20160129@calenda.revues.org
SUMMARY:Pascal Quignard\, « Les Petits Traités au fil de la relecture »
URL:https://calenda-formation.labocleo.org/353978
DESCRIPTION:Les 28 et 29 janvier 2016\, à Vérone\, se tiendra un colloque international consacré à Pascal Quignard\, « Les Petits Traités au fil de la relecture ». Pascal Quignard présentera à cette occasion une création Ballet de l'origine de la langue et de la li… Más informaciones https://calenda-formation.labocleo.org/353978
LOCATION:Verona
END:VEVENT
END:VCALENDAR
