BEGIN:VCALENDAR
VERSION:2.0
PRODID:-//https://calenda-formation.labocleo.org
X-WR-CALNAME:Calenda
X-WR-TIMEZONE:Europe/Paris
CALSCALE:GREGORIAN
X-WR-CALDESC:The calendar for arts, humanities and social sciences
METHOD:PUBLISH
BEGIN:VEVENT
DTSTART;VALUE=DATE:20160211
DTEND;VALUE=DATE:20160212
UID:354295-20160211@calenda.revues.org
SUMMARY:Looking\, listening\, commiting
URL:https://calenda-formation.labocleo.org/354295
DESCRIPTION:Cette deuxième édition des rencontres « anthro-Pau-logiques » poursuit l'analyse du regard que portent des anthropologues\, des collègues des autres sciences humaines et sociales ainsi que la société civile sur les problèmes du monde contemporain. Ain… @plus_info https://calenda-formation.labocleo.org/354295
LOCATION:Pau
END:VEVENT
BEGIN:VEVENT
DTSTART;VALUE=DATE:20160212
DTEND;VALUE=DATE:20160213
UID:354295-20160212@calenda.revues.org
SUMMARY:Looking\, listening\, commiting
URL:https://calenda-formation.labocleo.org/354295
DESCRIPTION:Cette deuxième édition des rencontres « anthro-Pau-logiques » poursuit l'analyse du regard que portent des anthropologues\, des collègues des autres sciences humaines et sociales ainsi que la société civile sur les problèmes du monde contemporain. Ain… @plus_info https://calenda-formation.labocleo.org/354295
LOCATION:Pau
END:VEVENT
END:VCALENDAR
