BEGIN:VCALENDAR
VERSION:2.0
PRODID:-//https://calenda-formation.labocleo.org
X-WR-CALNAME:Calenda
X-WR-TIMEZONE:Europe/Paris
CALSCALE:GREGORIAN
X-WR-CALDESC:The calendar for arts, humanities and social sciences
METHOD:PUBLISH
BEGIN:VEVENT
DTSTART;VALUE=DATE:20160315
DTEND;VALUE=DATE:20160316
UID:354598-20160315@calenda.revues.org
SUMMARY:Rites and identities
URL:https://calenda-formation.labocleo.org/354598
DESCRIPTION:L’objet du colloque Rites et Identités est de regrouper des chercheurs de toutes les disciplines qui s’intéressent aux rites en relation avec les questions identitaires. Chacun pourra montrer comment il entrevoit les liens entre la construction des i… @plus_info https://calenda-formation.labocleo.org/354598
LOCATION:Quebec City
END:VEVENT
END:VCALENDAR
