BEGIN:VCALENDAR
VERSION:2.0
PRODID:-//https://calenda-formation.labocleo.org
X-WR-CALNAME:Calenda
X-WR-TIMEZONE:Europe/Paris
CALSCALE:GREGORIAN
X-WR-CALDESC:Le calendrier des lettres et sciences humaines et sociales
METHOD:PUBLISH
BEGIN:VEVENT
DTSTART;VALUE=DATE:20160331
DTEND;VALUE=DATE:20160401
UID:354709-20160331@calenda.revues.org
SUMMARY:Management durable 2.0 des organisations « privées\, publiques et collectivités territoriales » à l’heure de la COP 22
URL:https://calenda-formation.labocleo.org/354709
DESCRIPTION:Le défi que les organisations du secteur privé et/ou du secteur public sont appelé à relever est d'adopter de nouvelles stratégies\, de nouvelles façons de s'organiser et de nouveaux comportements d’agir\, en un mot\, un management durable en action. Il… @plus_info https://calenda-formation.labocleo.org/354709
LOCATION:Agadir
END:VEVENT
END:VCALENDAR
