BEGIN:VCALENDAR
VERSION:2.0
PRODID:-//https://calenda-formation.labocleo.org
X-WR-CALNAME:Calenda
X-WR-TIMEZONE:Europe/Paris
CALSCALE:GREGORIAN
X-WR-CALDESC:The calendar for arts, humanities and social sciences
METHOD:PUBLISH
BEGIN:VEVENT
DTSTART;VALUE=DATE:20160506
DTEND;VALUE=DATE:20160507
UID:355005-20160506@calenda.revues.org
SUMMARY:The sciences in narratives: betwen philosophy\, history and literature
URL:https://calenda-formation.labocleo.org/355005
DESCRIPTION:L’université Paul-Valéry Montpellier 3 propose un contrat doctoral à partir de 2016-2017 pour une recherche menée dans le cadre du Centre de recherches interdisciplinaires en sciences humaines et sociales - CRISES (EA 4424) à destination d’un(e) étud… @plus_info https://calenda-formation.labocleo.org/355005
LOCATION:Montpellier
END:VEVENT
END:VCALENDAR
