BEGIN:VCALENDAR
VERSION:2.0
PRODID:-//https://calenda-formation.labocleo.org
X-WR-CALNAME:Calenda
X-WR-TIMEZONE:Europe/Paris
CALSCALE:GREGORIAN
X-WR-CALDESC:The calendar for arts, humanities and social sciences
METHOD:PUBLISH
BEGIN:VEVENT
DTSTART;VALUE=DATE:20160210
DTEND;VALUE=DATE:20160211
UID:355542-20160210@calenda.revues.org
SUMMARY:Trains and crews: organising diplomatic movement in the 16th-18th centuries
URL:https://calenda-formation.labocleo.org/355542
DESCRIPTION:Cette journée d’étude vise à interroger l’organisation des déplacements diplomatiques en Europe du XVIe au XVIIIe siècle en croisant les sources et les approches de l’histoire économique\, de l’histoire de la culture matérielle et de l’histoire de la … @plus_info https://calenda-formation.labocleo.org/355542
LOCATION:Pessac
END:VEVENT
END:VCALENDAR
