BEGIN:VCALENDAR
VERSION:2.0
PRODID:-//https://calenda-formation.labocleo.org
X-WR-CALNAME:Calenda
X-WR-TIMEZONE:Europe/Paris
CALSCALE:GREGORIAN
X-WR-CALDESC:The calendar for arts, humanities and social sciences
METHOD:PUBLISH
BEGIN:VEVENT
DTSTART;VALUE=DATE:20160430
DTEND;VALUE=DATE:20160501
UID:355552-20160430@calenda.revues.org
SUMMARY:The future of churches
URL:https://calenda-formation.labocleo.org/355552
DESCRIPTION:Face au phénomène de sécularisation\, le patrimoine religieux doit faire face aux défis de la mutation fonctionnelle et architecturale dans des proportions inédites. Ce colloque ambitionne d’une part\, de poser les fondements d’une réflexion théorique … @plus_info https://calenda-formation.labocleo.org/355552
LOCATION:
END:VEVENT
END:VCALENDAR
