BEGIN:VCALENDAR
VERSION:2.0
PRODID:-//https://calenda-formation.labocleo.org
X-WR-CALNAME:Calenda
X-WR-TIMEZONE:Europe/Paris
CALSCALE:GREGORIAN
X-WR-CALDESC:Le calendrier des lettres et sciences humaines et sociales
METHOD:PUBLISH
BEGIN:VEVENT
DTSTART;VALUE=DATE:20160222
DTEND;VALUE=DATE:20160223
UID:355565-20160222@calenda.revues.org
SUMMARY:Les effets de la participation publique en aménagement et urbanisme
URL:https://calenda-formation.labocleo.org/355565
DESCRIPTION:Ce colloque s’intéresse aux effets de la participation du public à l’aménagement et à l’urbanisme sous toutes ses formes. Il souhaite réunir des chercheurs issus de différents contextes pour interroger les manières et les approches développées afin d… @plus_info https://calenda-formation.labocleo.org/355565
LOCATION:Montréal
END:VEVENT
END:VCALENDAR
