BEGIN:VCALENDAR
VERSION:2.0
PRODID:-//https://calenda-formation.labocleo.org
X-WR-CALNAME:Calenda
X-WR-TIMEZONE:Europe/Paris
CALSCALE:GREGORIAN
X-WR-CALDESC:Le calendrier des lettres et sciences humaines et sociales
METHOD:PUBLISH
BEGIN:VEVENT
DTSTART;VALUE=DATE:20160330
DTEND;VALUE=DATE:20160331
UID:355611-20160330@calenda.revues.org
SUMMARY:Religion en jeu : représentations et utilisations du religieux
URL:https://calenda-formation.labocleo.org/355611
DESCRIPTION:Pour Philip Larkin en 1955\, la religion était une relique du passé. Dans Church Going\, le poète anglais se plaçait dans une petite église de campagne et se demandait ce qui adviendrait de tels endroits lorsque la religion aurait disparue de nos socié… Más informaciones https://calenda-formation.labocleo.org/355611
LOCATION:Nantes
END:VEVENT
END:VCALENDAR
