BEGIN:VCALENDAR
VERSION:2.0
PRODID:-//https://calenda-formation.labocleo.org
X-WR-CALNAME:Calenda
X-WR-TIMEZONE:Europe/Paris
CALSCALE:GREGORIAN
X-WR-CALDESC:The calendar for arts, humanities and social sciences
METHOD:PUBLISH
BEGIN:VEVENT
DTSTART;VALUE=DATE:20160901
DTEND;VALUE=DATE:20160902
UID:355876-20160901@calenda.revues.org
SUMMARY:Mazarin\, Rome and Italy - history and the history of art
URL:https://calenda-formation.labocleo.org/355876
DESCRIPTION:Ce colloque\, qui prend la suite du colloque Mazarin\, les lettres et les arts (Institut\, décembre 2002\, publié en 2006)\, portera sur les liens de Mazarin avec Rome et l’Italie\, durant sa période romaine\, jusqu’en 1643\, puis durant son ministériat en F… @plus_info https://calenda-formation.labocleo.org/355876
LOCATION:Paris
END:VEVENT
END:VCALENDAR
