BEGIN:VCALENDAR
VERSION:2.0
PRODID:-//https://calenda-formation.labocleo.org
X-WR-CALNAME:Calenda
X-WR-TIMEZONE:Europe/Paris
CALSCALE:GREGORIAN
X-WR-CALDESC:The calendar for arts, humanities and social sciences
METHOD:PUBLISH
BEGIN:VEVENT
DTSTART;VALUE=DATE:20160317
DTEND;VALUE=DATE:20160318
UID:355969-20160317@calenda.revues.org
SUMMARY:Looking for territories?
URL:https://calenda-formation.labocleo.org/355969
DESCRIPTION:The first two CIST conferences – Founding Territorial Sciences\, in 2011\, and Frontiers and Boundaries of Territorial Sciences\, in 2014– addressed a number of theoretical and practical issues in the territorial sciences. This third edition\, to be held… @plus_info https://calenda-formation.labocleo.org/355969
LOCATION:Grenoble
END:VEVENT
BEGIN:VEVENT
DTSTART;VALUE=DATE:20160318
DTEND;VALUE=DATE:20160319
UID:355969-20160318@calenda.revues.org
SUMMARY:Looking for territories?
URL:https://calenda-formation.labocleo.org/355969
DESCRIPTION:The first two CIST conferences – Founding Territorial Sciences\, in 2011\, and Frontiers and Boundaries of Territorial Sciences\, in 2014– addressed a number of theoretical and practical issues in the territorial sciences. This third edition\, to be held… @plus_info https://calenda-formation.labocleo.org/355969
LOCATION:Grenoble
END:VEVENT
END:VCALENDAR
