BEGIN:VCALENDAR
VERSION:2.0
PRODID:-//https://calenda-formation.labocleo.org
X-WR-CALNAME:Calenda
X-WR-TIMEZONE:Europe/Paris
CALSCALE:GREGORIAN
X-WR-CALDESC:Le calendrier des lettres et sciences humaines et sociales
METHOD:PUBLISH
BEGIN:VEVENT
DTSTART;VALUE=DATE:20151113
DTEND;VALUE=DATE:20151114
UID:356074-20151113@calenda.revues.org
SUMMARY:Mathématiques à la Renaissance
URL:https://calenda-formation.labocleo.org/356074
DESCRIPTION:Ce séminaire\, conçu sur plusieurs années\, se donne pour objet d’aborder différents aspects des mathématiques à la Renaissance\, que l’on peut regrouper dans trois rubriques principales : humanisme et mathématiques ; l’algèbre entre arithmétique et géo… Más informaciones https://calenda-formation.labocleo.org/356074
LOCATION:París
END:VEVENT
BEGIN:VEVENT
DTSTART;VALUE=DATE:20151211
DTEND;VALUE=DATE:20151212
UID:356074-20151211@calenda.revues.org
SUMMARY:Mathématiques à la Renaissance
URL:https://calenda-formation.labocleo.org/356074
DESCRIPTION:Ce séminaire\, conçu sur plusieurs années\, se donne pour objet d’aborder différents aspects des mathématiques à la Renaissance\, que l’on peut regrouper dans trois rubriques principales : humanisme et mathématiques ; l’algèbre entre arithmétique et géo… Más informaciones https://calenda-formation.labocleo.org/356074
LOCATION:París
END:VEVENT
BEGIN:VEVENT
DTSTART;VALUE=DATE:20160122
DTEND;VALUE=DATE:20160123
UID:356074-20160122@calenda.revues.org
SUMMARY:Mathématiques à la Renaissance
URL:https://calenda-formation.labocleo.org/356074
DESCRIPTION:Ce séminaire\, conçu sur plusieurs années\, se donne pour objet d’aborder différents aspects des mathématiques à la Renaissance\, que l’on peut regrouper dans trois rubriques principales : humanisme et mathématiques ; l’algèbre entre arithmétique et géo… Más informaciones https://calenda-formation.labocleo.org/356074
LOCATION:París
END:VEVENT
BEGIN:VEVENT
DTSTART;VALUE=DATE:20160219
DTEND;VALUE=DATE:20160220
UID:356074-20160219@calenda.revues.org
SUMMARY:Mathématiques à la Renaissance
URL:https://calenda-formation.labocleo.org/356074
DESCRIPTION:Ce séminaire\, conçu sur plusieurs années\, se donne pour objet d’aborder différents aspects des mathématiques à la Renaissance\, que l’on peut regrouper dans trois rubriques principales : humanisme et mathématiques ; l’algèbre entre arithmétique et géo… Más informaciones https://calenda-formation.labocleo.org/356074
LOCATION:París
END:VEVENT
BEGIN:VEVENT
DTSTART;VALUE=DATE:20160318
DTEND;VALUE=DATE:20160319
UID:356074-20160318@calenda.revues.org
SUMMARY:Mathématiques à la Renaissance
URL:https://calenda-formation.labocleo.org/356074
DESCRIPTION:Ce séminaire\, conçu sur plusieurs années\, se donne pour objet d’aborder différents aspects des mathématiques à la Renaissance\, que l’on peut regrouper dans trois rubriques principales : humanisme et mathématiques ; l’algèbre entre arithmétique et géo… Más informaciones https://calenda-formation.labocleo.org/356074
LOCATION:París
END:VEVENT
BEGIN:VEVENT
DTSTART;VALUE=DATE:20160415
DTEND;VALUE=DATE:20160416
UID:356074-20160415@calenda.revues.org
SUMMARY:Mathématiques à la Renaissance
URL:https://calenda-formation.labocleo.org/356074
DESCRIPTION:Ce séminaire\, conçu sur plusieurs années\, se donne pour objet d’aborder différents aspects des mathématiques à la Renaissance\, que l’on peut regrouper dans trois rubriques principales : humanisme et mathématiques ; l’algèbre entre arithmétique et géo… Más informaciones https://calenda-formation.labocleo.org/356074
LOCATION:París
END:VEVENT
BEGIN:VEVENT
DTSTART;VALUE=DATE:20160513
DTEND;VALUE=DATE:20160514
UID:356074-20160513@calenda.revues.org
SUMMARY:Mathématiques à la Renaissance
URL:https://calenda-formation.labocleo.org/356074
DESCRIPTION:Ce séminaire\, conçu sur plusieurs années\, se donne pour objet d’aborder différents aspects des mathématiques à la Renaissance\, que l’on peut regrouper dans trois rubriques principales : humanisme et mathématiques ; l’algèbre entre arithmétique et géo… Más informaciones https://calenda-formation.labocleo.org/356074
LOCATION:París
END:VEVENT
BEGIN:VEVENT
DTSTART;VALUE=DATE:20160617
DTEND;VALUE=DATE:20160618
UID:356074-20160617@calenda.revues.org
SUMMARY:Mathématiques à la Renaissance
URL:https://calenda-formation.labocleo.org/356074
DESCRIPTION:Ce séminaire\, conçu sur plusieurs années\, se donne pour objet d’aborder différents aspects des mathématiques à la Renaissance\, que l’on peut regrouper dans trois rubriques principales : humanisme et mathématiques ; l’algèbre entre arithmétique et géo… Más informaciones https://calenda-formation.labocleo.org/356074
LOCATION:París
END:VEVENT
END:VCALENDAR
