BEGIN:VCALENDAR
VERSION:2.0
PRODID:-//https://calenda-formation.labocleo.org
X-WR-CALNAME:Calenda
X-WR-TIMEZONE:Europe/Paris
CALSCALE:GREGORIAN
X-WR-CALDESC:The calendar for arts, humanities and social sciences
METHOD:PUBLISH
BEGIN:VEVENT
DTSTART;VALUE=DATE:20160212
DTEND;VALUE=DATE:20160213
UID:356416-20160212@calenda.revues.org
SUMMARY:Transparency in education: ethics and governance - let's talk about it!
URL:https://calenda-formation.labocleo.org/356416
DESCRIPTION:L’association des étudiants de Master Coopération Internationale en Education et Formation (CIEF) organise le 12 février 2016 à Paris-Sorbonne la 10ème édition du colloque annuel sur les questions contemporaines du monde de l’éducation. L’éthique et … @plus_info https://calenda-formation.labocleo.org/356416
LOCATION:
END:VEVENT
END:VCALENDAR
