BEGIN:VCALENDAR
VERSION:2.0
PRODID:-//https://calenda-formation.labocleo.org
X-WR-CALNAME:Calenda
X-WR-TIMEZONE:Europe/Paris
CALSCALE:GREGORIAN
X-WR-CALDESC:The calendar for arts, humanities and social sciences
METHOD:PUBLISH
BEGIN:VEVENT
DTSTART;VALUE=DATE:20160418
DTEND;VALUE=DATE:20160419
UID:356795-20160418@calenda.revues.org
SUMMARY:The ethics and responsibility in language teaching in the 21th century
URL:https://calenda-formation.labocleo.org/356795
DESCRIPTION:Ce colloque se propose d’explorer la problématique de l’éthique et de la responsabilité en didactique des langues en s’intéressant notamment aux responsabilités sociales et scientifiques qui incombent à la fois aux enseignants de langues dans leur ag… @plus_info https://calenda-formation.labocleo.org/356795
LOCATION:Paris
END:VEVENT
END:VCALENDAR
