BEGIN:VCALENDAR
VERSION:2.0
PRODID:-//https://calenda-formation.labocleo.org
X-WR-CALNAME:Calenda
X-WR-TIMEZONE:Europe/Paris
CALSCALE:GREGORIAN
X-WR-CALDESC:Le calendrier des lettres et sciences humaines et sociales
METHOD:PUBLISH
BEGIN:VEVENT
DTSTART;VALUE=DATE:20160515
DTEND;VALUE=DATE:20160516
UID:356997-20160515@calenda.revues.org
SUMMARY:« Le troisième combattant ». L’action humanitaire durant la Guerre civile espagnole et l’exil républicain
URL:https://calenda-formation.labocleo.org/356997
DESCRIPTION:Ce colloque organisé à l’université de Genève\, les 27 et 28 octobre 2016 (Institut éthique histoire humanités – iEH2 et Maison de l'histoire) propose de repenser la Guerre civile espagnole et l’exil qui l’a suivi comme un moment significatif de la cr… Weitere Informationen https://calenda-formation.labocleo.org/356997
LOCATION:Genf
END:VEVENT
END:VCALENDAR
