BEGIN:VCALENDAR
VERSION:2.0
PRODID:-//https://calenda-formation.labocleo.org
X-WR-CALNAME:Calenda
X-WR-TIMEZONE:Europe/Paris
CALSCALE:GREGORIAN
X-WR-CALDESC:O calendário de letras e de ciências sociais e humanas
METHOD:PUBLISH
BEGIN:VEVENT
DTSTART;VALUE=DATE:20160129
DTEND;VALUE=DATE:20160130
UID:357088-20160129@calenda.revues.org
SUMMARY:Les catégories de l'histoire littéraire italienne (XVIIIe-XXIe siècle)
URL:https://calenda-formation.labocleo.org/357088
DESCRIPTION:    Nous poursuivons en 2015-2016 la réflexion entreprise depuis trois ans autour des catégories du discours public de la nation italienne\, au carrefour de l'histoire littéraire\, des questions philologiques et de l'histoire politique. La question … @plus_info https://calenda-formation.labocleo.org/357088
LOCATION:Paris
END:VEVENT
BEGIN:VEVENT
DTSTART;VALUE=DATE:20160204
DTEND;VALUE=DATE:20160205
UID:357088-20160204@calenda.revues.org
SUMMARY:Les catégories de l'histoire littéraire italienne (XVIIIe-XXIe siècle)
URL:https://calenda-formation.labocleo.org/357088
DESCRIPTION:    Nous poursuivons en 2015-2016 la réflexion entreprise depuis trois ans autour des catégories du discours public de la nation italienne\, au carrefour de l'histoire littéraire\, des questions philologiques et de l'histoire politique. La question … @plus_info https://calenda-formation.labocleo.org/357088
LOCATION:Paris
END:VEVENT
BEGIN:VEVENT
DTSTART;VALUE=DATE:20160206
DTEND;VALUE=DATE:20160207
UID:357088-20160206@calenda.revues.org
SUMMARY:Les catégories de l'histoire littéraire italienne (XVIIIe-XXIe siècle)
URL:https://calenda-formation.labocleo.org/357088
DESCRIPTION:    Nous poursuivons en 2015-2016 la réflexion entreprise depuis trois ans autour des catégories du discours public de la nation italienne\, au carrefour de l'histoire littéraire\, des questions philologiques et de l'histoire politique. La question … @plus_info https://calenda-formation.labocleo.org/357088
LOCATION:Paris
END:VEVENT
BEGIN:VEVENT
DTSTART;VALUE=DATE:20160321
DTEND;VALUE=DATE:20160322
UID:357088-20160321@calenda.revues.org
SUMMARY:Les catégories de l'histoire littéraire italienne (XVIIIe-XXIe siècle)
URL:https://calenda-formation.labocleo.org/357088
DESCRIPTION:    Nous poursuivons en 2015-2016 la réflexion entreprise depuis trois ans autour des catégories du discours public de la nation italienne\, au carrefour de l'histoire littéraire\, des questions philologiques et de l'histoire politique. La question … @plus_info https://calenda-formation.labocleo.org/357088
LOCATION:Paris
END:VEVENT
BEGIN:VEVENT
DTSTART;VALUE=DATE:20160401
DTEND;VALUE=DATE:20160402
UID:357088-20160401@calenda.revues.org
SUMMARY:Les catégories de l'histoire littéraire italienne (XVIIIe-XXIe siècle)
URL:https://calenda-formation.labocleo.org/357088
DESCRIPTION:    Nous poursuivons en 2015-2016 la réflexion entreprise depuis trois ans autour des catégories du discours public de la nation italienne\, au carrefour de l'histoire littéraire\, des questions philologiques et de l'histoire politique. La question … @plus_info https://calenda-formation.labocleo.org/357088
LOCATION:Paris
END:VEVENT
BEGIN:VEVENT
DTSTART;VALUE=DATE:20160513
DTEND;VALUE=DATE:20160514
UID:357088-20160513@calenda.revues.org
SUMMARY:Les catégories de l'histoire littéraire italienne (XVIIIe-XXIe siècle)
URL:https://calenda-formation.labocleo.org/357088
DESCRIPTION:    Nous poursuivons en 2015-2016 la réflexion entreprise depuis trois ans autour des catégories du discours public de la nation italienne\, au carrefour de l'histoire littéraire\, des questions philologiques et de l'histoire politique. La question … @plus_info https://calenda-formation.labocleo.org/357088
LOCATION:Paris
END:VEVENT
END:VCALENDAR
