BEGIN:VCALENDAR
VERSION:2.0
PRODID:-//https://calenda-formation.labocleo.org
X-WR-CALNAME:Calenda
X-WR-TIMEZONE:Europe/Paris
CALSCALE:GREGORIAN
X-WR-CALDESC:Le calendrier des lettres et sciences humaines et sociales
METHOD:PUBLISH
BEGIN:VEVENT
DTSTART;VALUE=DATE:20160331
DTEND;VALUE=DATE:20160401
UID:357846-20160331@calenda.revues.org
SUMMARY:Handicap\, passage à l’âge adulte et vulnérabilités
URL:https://calenda-formation.labocleo.org/357846
DESCRIPTION:Pour la parution d'Agora débats / jeunesses n°71 intitulé « Handicap\, passage à l'âge adulte et vulnérabilités »\, l'Institut national de la jeunesse et de l'éducation populaire (INJEP) organise une conférence-débat le 31 mars 2016 en partenariat avec… Weitere Informationen https://calenda-formation.labocleo.org/357846
LOCATION:Straßburg
END:VEVENT
END:VCALENDAR
