BEGIN:VCALENDAR
VERSION:2.0
PRODID:-//https://calenda-formation.labocleo.org
X-WR-CALNAME:Calenda
X-WR-TIMEZONE:Europe/Paris
CALSCALE:GREGORIAN
X-WR-CALDESC:Le calendrier des lettres et sciences humaines et sociales
METHOD:PUBLISH
BEGIN:VEVENT
DTSTART;VALUE=DATE:20160915
DTEND;VALUE=DATE:20160916
UID:357886-20160915@calenda.revues.org
SUMMARY:Extra-terrestre
URL:https://calenda-formation.labocleo.org/357886
DESCRIPTION:En prenant pour point de départ le recours à l’imagination artistique impliqué par la pensée de l’extra-terrestre kantien\, nous souhaiterions interroger les rapports de l’art et de la science-fiction. Comment l’art pense l’extra-terrestre ou avec l’e… @plus_info https://calenda-formation.labocleo.org/357886
LOCATION:Paris
END:VEVENT
END:VCALENDAR
