BEGIN:VCALENDAR
VERSION:2.0
PRODID:-//https://calenda-formation.labocleo.org
X-WR-CALNAME:Calenda
X-WR-TIMEZONE:Europe/Paris
CALSCALE:GREGORIAN
X-WR-CALDESC:Le calendrier des lettres et sciences humaines et sociales
METHOD:PUBLISH
BEGIN:VEVENT
DTSTART;VALUE=DATE:20160724
DTEND;VALUE=DATE:20160725
UID:357956-20160724@calenda.revues.org
SUMMARY:Éducation et santé : quelles altérités ?
URL:https://calenda-formation.labocleo.org/357956
DESCRIPTION:Si l’altérité se définit par le caractère de ce qui est autre\, de sa reconnaissance\, de la relation entre le je et l’autre\, par le degré de ce qui est perçu comme familier ou étranger\, les altérités concernent\, entre autres\, les relations humaines\, l… Más informaciones https://calenda-formation.labocleo.org/357956
LOCATION:París
END:VEVENT
END:VCALENDAR
