BEGIN:VCALENDAR
VERSION:2.0
PRODID:-//https://calenda-formation.labocleo.org
X-WR-CALNAME:Calenda
X-WR-TIMEZONE:Europe/Paris
CALSCALE:GREGORIAN
X-WR-CALDESC:Le calendrier des lettres et sciences humaines et sociales
METHOD:PUBLISH
BEGIN:VEVENT
DTSTART;VALUE=DATE:20160317
DTEND;VALUE=DATE:20160318
UID:358871-20160317@calenda.revues.org
SUMMARY:La découverte des inscriptions funéraires judéo-arabes de Tunisie
URL:https://calenda-formation.labocleo.org/358871
DESCRIPTION:Au long de l’histoire\, l’art funéraire des juifs a évolué en fonction des traditions locales contemporaines. Ainsi\, les matsevot ou pierres tombales\, apparaissent sous forme de stèles dressées en Europe alors qu’en Orient et en Afrique du Nord\, seule… @plus_info https://calenda-formation.labocleo.org/358871
LOCATION:Paris
END:VEVENT
END:VCALENDAR
