BEGIN:VCALENDAR
VERSION:2.0
PRODID:-//https://calenda-formation.labocleo.org
X-WR-CALNAME:Calenda
X-WR-TIMEZONE:Europe/Paris
CALSCALE:GREGORIAN
X-WR-CALDESC:Le calendrier des lettres et sciences humaines et sociales
METHOD:PUBLISH
BEGIN:VEVENT
DTSTART;VALUE=DATE:20160531
DTEND;VALUE=DATE:20160601
UID:358888-20160531@calenda.revues.org
SUMMARY:Seeing Through? The Materiality of Dioramas (1560-2010)
URL:https://calenda-formation.labocleo.org/358888
DESCRIPTION:Dioramas are at the crossroads of artistic\, scientific and cultural practices. They bring together painters\, sculptors\, scientists\, and collectors\, thus providing an opportunity to reflect on the polyvalence of these actors and the definition of thei… Weitere Informationen https://calenda-formation.labocleo.org/358888
LOCATION:Bern
END:VEVENT
END:VCALENDAR
