BEGIN:VCALENDAR
VERSION:2.0
PRODID:-//https://calenda-formation.labocleo.org
X-WR-CALNAME:Calenda
X-WR-TIMEZONE:Europe/Paris
CALSCALE:GREGORIAN
X-WR-CALDESC:Le calendrier des lettres et sciences humaines et sociales
METHOD:PUBLISH
BEGIN:VEVENT
DTSTART;VALUE=DATE:20160320
DTEND;VALUE=DATE:20160321
UID:359220-20160320@calenda.revues.org
SUMMARY:Four Visiting Fellowships for Postgraduates "Cultures of Decision-Making"
URL:https://calenda-formation.labocleo.org/359220
DESCRIPTION:The Integrated Graduate School of the Collaborative Research Centre/SFB 1150 “Cultures of Decision-making”\, funded by the Deutsche Forschungsgemeinschaft (DFG) at the University of Muenster since July 1st 2015\, is offering  four visiting fellowships … Más informaciones https://calenda-formation.labocleo.org/359220
LOCATION:Münster
END:VEVENT
END:VCALENDAR
