BEGIN:VCALENDAR
VERSION:2.0
PRODID:-//https://calenda-formation.labocleo.org
X-WR-CALNAME:Calenda
X-WR-TIMEZONE:Europe/Paris
CALSCALE:GREGORIAN
X-WR-CALDESC:The calendar for arts, humanities and social sciences
METHOD:PUBLISH
BEGIN:VEVENT
DTSTART;VALUE=DATE:20160602
DTEND;VALUE=DATE:20160603
UID:359886-20160602@calenda.revues.org
SUMMARY:1976-2016 The unresolved issue of the Western Sahara 
URL:https://calenda-formation.labocleo.org/359886
DESCRIPTION:L’objectif de ce premier colloque international en sciences humaines et sociales consacré au Sahara Occidental est de réaliser un état des lieux de la recherche en SHS sur cette « question ». Il s’agit d’une part de permettre aux chercheurs d’échappe… @plus_info https://calenda-formation.labocleo.org/359886
LOCATION:Paris
END:VEVENT
BEGIN:VEVENT
DTSTART;VALUE=DATE:20160603
DTEND;VALUE=DATE:20160604
UID:359886-20160603@calenda.revues.org
SUMMARY:1976-2016 The unresolved issue of the Western Sahara 
URL:https://calenda-formation.labocleo.org/359886
DESCRIPTION:L’objectif de ce premier colloque international en sciences humaines et sociales consacré au Sahara Occidental est de réaliser un état des lieux de la recherche en SHS sur cette « question ». Il s’agit d’une part de permettre aux chercheurs d’échappe… @plus_info https://calenda-formation.labocleo.org/359886
LOCATION:Paris
END:VEVENT
END:VCALENDAR
