BEGIN:VCALENDAR
VERSION:2.0
PRODID:-//https://calenda-formation.labocleo.org
X-WR-CALNAME:Calenda
X-WR-TIMEZONE:Europe/Paris
CALSCALE:GREGORIAN
X-WR-CALDESC:Le calendrier des lettres et sciences humaines et sociales
METHOD:PUBLISH
BEGIN:VEVENT
DTSTART;VALUE=DATE:20160331
DTEND;VALUE=DATE:20160401
UID:359953-20160331@calenda.revues.org
SUMMARY:Rendre des comptes / rendre compte
URL:https://calenda-formation.labocleo.org/359953
DESCRIPTION:Ce colloque a pour but d'étudier les changements actuels de la notion de reddition de comptes\, à savoir la relation dans laquelle un acteur public explique et justifie de sa conduite à une ou plusieurs instances (supérieur hiérarchique\, tutelle\, délé… Weitere Informationen https://calenda-formation.labocleo.org/359953
LOCATION:Straßburg
END:VEVENT
BEGIN:VEVENT
DTSTART;VALUE=DATE:20160401
DTEND;VALUE=DATE:20160402
UID:359953-20160401@calenda.revues.org
SUMMARY:Rendre des comptes / rendre compte
URL:https://calenda-formation.labocleo.org/359953
DESCRIPTION:Ce colloque a pour but d'étudier les changements actuels de la notion de reddition de comptes\, à savoir la relation dans laquelle un acteur public explique et justifie de sa conduite à une ou plusieurs instances (supérieur hiérarchique\, tutelle\, délé… Weitere Informationen https://calenda-formation.labocleo.org/359953
LOCATION:Straßburg
END:VEVENT
END:VCALENDAR
