BEGIN:VCALENDAR
VERSION:2.0
PRODID:-//https://calenda-formation.labocleo.org
X-WR-CALNAME:Calenda
X-WR-TIMEZONE:Europe/Paris
CALSCALE:GREGORIAN
X-WR-CALDESC:The calendar for arts, humanities and social sciences
METHOD:PUBLISH
BEGIN:VEVENT
DTSTART;VALUE=DATE:20160321
DTEND;VALUE=DATE:20160322
UID:359982-20160321@calenda.revues.org
SUMMARY:Administrative reason and imperial logic: changes in the meaning of "administration" (13th-20th century)
URL:https://calenda-formation.labocleo.org/359982
DESCRIPTION:Le phénomène administratif a été un pôle d’intérêt historiographique d’abord dans le cadre de recherches orientées par l’idée d’une construction de l’État moderne. De multiples recherches ont tenté d’identifier ses fondements\, un droit particulier ou… @plus_info https://calenda-formation.labocleo.org/359982
LOCATION:Toulouse
END:VEVENT
BEGIN:VEVENT
DTSTART;VALUE=DATE:20160322
DTEND;VALUE=DATE:20160323
UID:359982-20160322@calenda.revues.org
SUMMARY:Administrative reason and imperial logic: changes in the meaning of "administration" (13th-20th century)
URL:https://calenda-formation.labocleo.org/359982
DESCRIPTION:Le phénomène administratif a été un pôle d’intérêt historiographique d’abord dans le cadre de recherches orientées par l’idée d’une construction de l’État moderne. De multiples recherches ont tenté d’identifier ses fondements\, un droit particulier ou… @plus_info https://calenda-formation.labocleo.org/359982
LOCATION:Toulouse
END:VEVENT
END:VCALENDAR
