BEGIN:VCALENDAR
VERSION:2.0
PRODID:-//https://calenda-formation.labocleo.org
X-WR-CALNAME:Calenda
X-WR-TIMEZONE:Europe/Paris
CALSCALE:GREGORIAN
X-WR-CALDESC:Le calendrier des lettres et sciences humaines et sociales
METHOD:PUBLISH
BEGIN:VEVENT
DTSTART;VALUE=DATE:20160415
DTEND;VALUE=DATE:20160416
UID:360365-20160415@calenda.revues.org
SUMMARY:Comment (ne pas) être leibnizien ?
URL:https://calenda-formation.labocleo.org/360365
DESCRIPTION:En raison de l'immensité de son corpus\, l'œuvre de Leibniz (1646-1716) reste aujourd’hui encore\, dans son détail\, l’une des plus méconnues : l’histoire de la réception de la philosophie leibnizienne est\, jusqu’à ce jour\, étroitement liée à l’histoire… Weitere Informationen https://calenda-formation.labocleo.org/360365
LOCATION:Brüssel
END:VEVENT
END:VCALENDAR
