BEGIN:VCALENDAR
VERSION:2.0
PRODID:-//https://calenda-formation.labocleo.org
X-WR-CALNAME:Calenda
X-WR-TIMEZONE:Europe/Paris
CALSCALE:GREGORIAN
X-WR-CALDESC:The calendar for arts, humanities and social sciences
METHOD:PUBLISH
BEGIN:VEVENT
DTSTART;VALUE=DATE:20160331
DTEND;VALUE=DATE:20160401
UID:360608-20160331@calenda.revues.org
SUMMARY:Doctoral grants in research and creation (Ph.D)
URL:https://calenda-formation.labocleo.org/360608
DESCRIPTION:La Chaire de recherche du Canada en recherche-création en musique et ses deux laboratoires\, le Groupe de recherche-création en musique (GRECEM) et le Laboratoire de recherche-création en musique et multimédia (LARCEM) de la Faculté de musique de l’Un… @plus_info https://calenda-formation.labocleo.org/360608
LOCATION:Quebec City
END:VEVENT
END:VCALENDAR
