BEGIN:VCALENDAR
VERSION:2.0
PRODID:-//https://calenda-formation.labocleo.org
X-WR-CALNAME:Calenda
X-WR-TIMEZONE:Europe/Paris
CALSCALE:GREGORIAN
X-WR-CALDESC:Le calendrier des lettres et sciences humaines et sociales
METHOD:PUBLISH
BEGIN:VEVENT
DTSTART;VALUE=DATE:20160422
DTEND;VALUE=DATE:20160423
UID:360724-20160422@calenda.revues.org
SUMMARY:Données\, métadonnées des corpus et catalogage des objets en sciences humaines et sociales
URL:https://calenda-formation.labocleo.org/360724
DESCRIPTION:Les sciences humaines et sociales s’appuient sur une collecte de données sur une échelle de plus en plus large. La numérisation et l’indexation des sources constituent une activité essentielle pour le renouvellement des approches en sciences sociales… Weitere Informationen https://calenda-formation.labocleo.org/360724
LOCATION:Poitiers
END:VEVENT
END:VCALENDAR
