BEGIN:VCALENDAR
VERSION:2.0
PRODID:-//https://calenda-formation.labocleo.org
X-WR-CALNAME:Calenda
X-WR-TIMEZONE:Europe/Paris
CALSCALE:GREGORIAN
X-WR-CALDESC:Le calendrier des lettres et sciences humaines et sociales
METHOD:PUBLISH
BEGIN:VEVENT
DTSTART;VALUE=DATE:20161020
DTEND;VALUE=DATE:20161021
UID:360940-20161020@calenda.revues.org
SUMMARY:Borders in all shapes and forms
URL:https://calenda-formation.labocleo.org/360940
DESCRIPTION:The eighth edition of the Young Researchers Days in Human Sciences and Arts (2L2S) will take place in Nancy on October 20th and 21st 2016. This year we launch a call on the topic of “Borders in all shapes and forms” through five thematic axes : spati… Weitere Informationen https://calenda-formation.labocleo.org/360940
LOCATION:Nancy
END:VEVENT
BEGIN:VEVENT
DTSTART;VALUE=DATE:20161021
DTEND;VALUE=DATE:20161022
UID:360940-20161021@calenda.revues.org
SUMMARY:Borders in all shapes and forms
URL:https://calenda-formation.labocleo.org/360940
DESCRIPTION:The eighth edition of the Young Researchers Days in Human Sciences and Arts (2L2S) will take place in Nancy on October 20th and 21st 2016. This year we launch a call on the topic of “Borders in all shapes and forms” through five thematic axes : spati… Weitere Informationen https://calenda-formation.labocleo.org/360940
LOCATION:Nancy
END:VEVENT
END:VCALENDAR
