BEGIN:VCALENDAR
VERSION:2.0
PRODID:-//https://calenda-formation.labocleo.org
X-WR-CALNAME:Calenda
X-WR-TIMEZONE:Europe/Paris
CALSCALE:GREGORIAN
X-WR-CALDESC:The calendar for arts, humanities and social sciences
METHOD:PUBLISH
BEGIN:VEVENT
DTSTART;VALUE=DATE:20160407
DTEND;VALUE=DATE:20160408
UID:361358-20160407@calenda.revues.org
SUMMARY:The analysis and politics of the city
URL:https://calenda-formation.labocleo.org/361358
DESCRIPTION:Ce séminaire universitaire de réflexion sur la ville et les politiques urbaines est ouvert à un large public (chercheurs\, enseignants\, étudiants en sciences sociales et architecture\, urbanistes\, aménageurs et élus). La session du 7 avril 2016 se prop… @plus_info https://calenda-formation.labocleo.org/361358
LOCATION:Paris
END:VEVENT
BEGIN:VEVENT
DTSTART;VALUE=DATE:20160602
DTEND;VALUE=DATE:20160603
UID:361358-20160602@calenda.revues.org
SUMMARY:The analysis and politics of the city
URL:https://calenda-formation.labocleo.org/361358
DESCRIPTION:Ce séminaire universitaire de réflexion sur la ville et les politiques urbaines est ouvert à un large public (chercheurs\, enseignants\, étudiants en sciences sociales et architecture\, urbanistes\, aménageurs et élus). La session du 7 avril 2016 se prop… @plus_info https://calenda-formation.labocleo.org/361358
LOCATION:Paris
END:VEVENT
END:VCALENDAR
