BEGIN:VCALENDAR
VERSION:2.0
PRODID:-//https://calenda-formation.labocleo.org
X-WR-CALNAME:Calenda
X-WR-TIMEZONE:Europe/Paris
CALSCALE:GREGORIAN
X-WR-CALDESC:The calendar for arts, humanities and social sciences
METHOD:PUBLISH
BEGIN:VEVENT
DTSTART;VALUE=DATE:20160601
DTEND;VALUE=DATE:20160602
UID:361506-20160601@calenda.revues.org
SUMMARY:The educative relationship - the path to true freedom? 
URL:https://calenda-formation.labocleo.org/361506
DESCRIPTION:Héritière des lois scolaires de 1882\, l’école française se donne pour première mission de former des citoyens libres\, capables de penser par eux-mêmes et de faire leurs propres choix. Cette vision libératrice de l’école est régulièrement remise en ca… @plus_info https://calenda-formation.labocleo.org/361506
LOCATION:Paris
END:VEVENT
END:VCALENDAR
