BEGIN:VCALENDAR
VERSION:2.0
PRODID:-//https://calenda-formation.labocleo.org
X-WR-CALNAME:Calenda
X-WR-TIMEZONE:Europe/Paris
CALSCALE:GREGORIAN
X-WR-CALDESC:Le calendrier des lettres et sciences humaines et sociales
METHOD:PUBLISH
BEGIN:VEVENT
DTSTART;VALUE=DATE:20160529
DTEND;VALUE=DATE:20160530
UID:362266-20160529@calenda.revues.org
SUMMARY:Migrations contemporaines\,  territorialité\, information et  communication médiatisées
URL:https://calenda-formation.labocleo.org/362266
DESCRIPTION:Ce colloque international entend favoriser et encourager le dialogue interdisciplinaire et rassembler la communauté de chercheurs et les praticiens pour débattre de la migration contemporaine\, des territorialités\, de la communication médiatisée et de… Weitere Informationen https://calenda-formation.labocleo.org/362266
LOCATION:Clermont-Ferrand
END:VEVENT
END:VCALENDAR
