BEGIN:VCALENDAR
VERSION:2.0
PRODID:-//https://calenda-formation.labocleo.org
X-WR-CALNAME:Calenda
X-WR-TIMEZONE:Europe/Paris
CALSCALE:GREGORIAN
X-WR-CALDESC:The calendar for arts, humanities and social sciences
METHOD:PUBLISH
BEGIN:VEVENT
DTSTART;VALUE=DATE:20160402
DTEND;VALUE=DATE:20160403
UID:362349-20160402@calenda.revues.org
SUMMARY:The battle of the Somme (1916-2016)
URL:https://calenda-formation.labocleo.org/362349
DESCRIPTION:Le Centre international de recherche de l'Historial de la Grande Guerre (Péronne - Somme) organise\, avec le soutien du Conseil départemental de la Somme et de la Mission du Centenaire\, un cycle de conférences autour de la bataille de la Somme. Ces co… @plus_info https://calenda-formation.labocleo.org/362349
LOCATION:Péronne
END:VEVENT
BEGIN:VEVENT
DTSTART;VALUE=DATE:20160521
DTEND;VALUE=DATE:20160522
UID:362349-20160521@calenda.revues.org
SUMMARY:The battle of the Somme (1916-2016)
URL:https://calenda-formation.labocleo.org/362349
DESCRIPTION:Le Centre international de recherche de l'Historial de la Grande Guerre (Péronne - Somme) organise\, avec le soutien du Conseil départemental de la Somme et de la Mission du Centenaire\, un cycle de conférences autour de la bataille de la Somme. Ces co… @plus_info https://calenda-formation.labocleo.org/362349
LOCATION:Péronne
END:VEVENT
BEGIN:VEVENT
DTSTART;VALUE=DATE:20160629
DTEND;VALUE=DATE:20160630
UID:362349-20160629@calenda.revues.org
SUMMARY:The battle of the Somme (1916-2016)
URL:https://calenda-formation.labocleo.org/362349
DESCRIPTION:Le Centre international de recherche de l'Historial de la Grande Guerre (Péronne - Somme) organise\, avec le soutien du Conseil départemental de la Somme et de la Mission du Centenaire\, un cycle de conférences autour de la bataille de la Somme. Ces co… @plus_info https://calenda-formation.labocleo.org/362349
LOCATION:Péronne
END:VEVENT
BEGIN:VEVENT
DTSTART;VALUE=DATE:20160630
DTEND;VALUE=DATE:20160701
UID:362349-20160630@calenda.revues.org
SUMMARY:The battle of the Somme (1916-2016)
URL:https://calenda-formation.labocleo.org/362349
DESCRIPTION:Le Centre international de recherche de l'Historial de la Grande Guerre (Péronne - Somme) organise\, avec le soutien du Conseil départemental de la Somme et de la Mission du Centenaire\, un cycle de conférences autour de la bataille de la Somme. Ces co… @plus_info https://calenda-formation.labocleo.org/362349
LOCATION:Péronne
END:VEVENT
BEGIN:VEVENT
DTSTART;VALUE=DATE:20160918
DTEND;VALUE=DATE:20160919
UID:362349-20160918@calenda.revues.org
SUMMARY:The battle of the Somme (1916-2016)
URL:https://calenda-formation.labocleo.org/362349
DESCRIPTION:Le Centre international de recherche de l'Historial de la Grande Guerre (Péronne - Somme) organise\, avec le soutien du Conseil départemental de la Somme et de la Mission du Centenaire\, un cycle de conférences autour de la bataille de la Somme. Ces co… @plus_info https://calenda-formation.labocleo.org/362349
LOCATION:Péronne
END:VEVENT
BEGIN:VEVENT
DTSTART;VALUE=DATE:20161021
DTEND;VALUE=DATE:20161022
UID:362349-20161021@calenda.revues.org
SUMMARY:The battle of the Somme (1916-2016)
URL:https://calenda-formation.labocleo.org/362349
DESCRIPTION:Le Centre international de recherche de l'Historial de la Grande Guerre (Péronne - Somme) organise\, avec le soutien du Conseil départemental de la Somme et de la Mission du Centenaire\, un cycle de conférences autour de la bataille de la Somme. Ces co… @plus_info https://calenda-formation.labocleo.org/362349
LOCATION:Péronne
END:VEVENT
BEGIN:VEVENT
DTSTART;VALUE=DATE:20161206
DTEND;VALUE=DATE:20161207
UID:362349-20161206@calenda.revues.org
SUMMARY:The battle of the Somme (1916-2016)
URL:https://calenda-formation.labocleo.org/362349
DESCRIPTION:Le Centre international de recherche de l'Historial de la Grande Guerre (Péronne - Somme) organise\, avec le soutien du Conseil départemental de la Somme et de la Mission du Centenaire\, un cycle de conférences autour de la bataille de la Somme. Ces co… @plus_info https://calenda-formation.labocleo.org/362349
LOCATION:Péronne
END:VEVENT
END:VCALENDAR
