BEGIN:VCALENDAR
VERSION:2.0
PRODID:-//https://calenda-formation.labocleo.org
X-WR-CALNAME:Calenda
X-WR-TIMEZONE:Europe/Paris
CALSCALE:GREGORIAN
X-WR-CALDESC:The calendar for arts, humanities and social sciences
METHOD:PUBLISH
BEGIN:VEVENT
DTSTART;VALUE=DATE:20161120
DTEND;VALUE=DATE:20161121
UID:362942-20161120@calenda.revues.org
SUMMARY:Tourism\, ICT and territorial policy
URL:https://calenda-formation.labocleo.org/362942
DESCRIPTION:Le colloque se fixe pour objectif d’offrir aux différents intervenants une aire de réflexion\, sur les concepts\, les moyens mis en œuvre et les méthodes engageant le tourisme dans le développement du territoire\, sur la question du tourisme en tant que… @plus_info https://calenda-formation.labocleo.org/362942
LOCATION:Agadir
END:VEVENT
END:VCALENDAR
